BEGIN:VCALENDAR
VERSION:2.0
PRODID:-//CEG Connect - ECPv6.15.20//NONSGML v1.0//EN
CALSCALE:GREGORIAN
METHOD:PUBLISH
X-WR-CALNAME:CEG Connect
X-ORIGINAL-URL:https://cegconnect.com
X-WR-CALDESC:Events for CEG Connect
REFRESH-INTERVAL;VALUE=DURATION:PT1H
X-Robots-Tag:noindex
X-PUBLISHED-TTL:PT1H
BEGIN:VTIMEZONE
TZID:Asia/Kolkata
BEGIN:STANDARD
TZOFFSETFROM:+0530
TZOFFSETTO:+0530
TZNAME:IST
DTSTART:20210101T000000
END:STANDARD
END:VTIMEZONE
BEGIN:VEVENT
DTSTART;TZID=Asia/Kolkata:20220109T200000
DTEND;TZID=Asia/Kolkata:20220109T210000
DTSTAMP:20260420T064711
CREATED:20211222T113546Z
LAST-MODIFIED:20211222T114409Z
UID:341-1641758400-1641762000@cegconnect.com
SUMMARY:CEG C-Level Connect Series #7 - Satyan Parameswaran\, President\, Information Technology at UPS
DESCRIPTION:Program Details\n \nGuest Speaker – Satyan Parameswaran\, CEG 1992 ECE\, President\, Information Technology at UPS\nSatyan is responsible for all the technology used in the UPS package centers\, hubs\, scanning\, automation\, retail access points\, international regulatory compliance\, aviation security\, automotive\, telematics\, preload and on-road technology. He is responsible for the technology that helps UPS deliver ~24 million packages every day. \nSatyan began his UPS career in 2003 as Lead Application Developer and progressed through a variety of roles to Vice President\, in the Information Technology Customer and Billing Group. In this role\, Satyan was responsible for billing\, revenue management\, revenue analytics\, profit planning\, and the data exchange suite of applications that handle approximately $1.2 billion each week across several countries and business units. He also served on the UPS Architecture Board for solution architecture governance. \nHe is also responsible for leading work with the industry recognized ORION (On-Road Integrated Optimization and Navigation) and HEAT (Harmonized Enterprise Analytics Tool) programs. HEAT recently was recognized with a CIO100 award for 2021. \nPrior to joining UPS\, Satyan gained I.T. experience with leading consulting firms working for clients in the U.S.\, Latin America and Europe covering logistics\, credit cards\, retail merchandising and insurance domains. He led an I.T. team that helped launch revolving credit cards by a major U.S. credit card provider in Latin American countries. \nEarlier in his career\, Satyan worked for Indchem-ATL\, a biomedical engineering company specializing in ultra sound scanners\, CT scanners\, Defibrillators and intensive cardiac care monitoring instruments. \nSatyan is a recognized innovator with patents in the field of fraud detection\, mobile fund exchange and statistical anomaly detection. \nSatyan is a distinguished architect who serves as a board member for the Architect Certification Panel for The Open Group\, an independent architecture practice organization. \nSatyan has an undergrad degree in Electronics and Communication Engineering from College of Engineering\, Guindy\, India. He has a graduate degree in computer science from National Institute of Technology\, Trichy. Satyan also has an MBA in Finance and Strategy from Rutgers University\, New Jersey. \nSatyan played cricket for College of Engineering Guindy and was the captain of the Anna University ball-badminton team. \nSatyan is from Karur\, a textile town in central Tamil Nadu. \nHe is a die-hard fan of Rajnikanth and often a first day first show attendee provided his calendar co-operates. He likes to listen to Tamil movie songs and has 10\,000 songs loaded in his car. \nHe serves as a member of Executive Board of Trustees in Sanatan Mandir\, NJ. He is also serving as a Board of Director for The American Red Cross\, Northern New Jersey. \nLinkedin Profile\n \nHost – Mr. Vish Viswanathan\, CEG 1985 Mech\, CEO\, Anikode Management Consultants\nLinkedin Profile\n \nTechnical Support – Mr. Partha Sarathy\, CEG IT\, 2021\nLinkedin Profile
URL:https://cegconnect.com/event/ceg-c-level-connect-series-7-satyan-parameswaran-president-information-technology-at-ups/
LOCATION:Google Meet
END:VEVENT
END:VCALENDAR