BEGIN:VCALENDAR
VERSION:2.0
PRODID:-//CEG Connect - ECPv6.15.20//NONSGML v1.0//EN
CALSCALE:GREGORIAN
METHOD:PUBLISH
X-WR-CALNAME:CEG Connect
X-ORIGINAL-URL:https://cegconnect.com
X-WR-CALDESC:Events for CEG Connect
REFRESH-INTERVAL;VALUE=DURATION:PT1H
X-Robots-Tag:noindex
X-PUBLISHED-TTL:PT1H
BEGIN:VTIMEZONE
TZID:Asia/Kolkata
BEGIN:STANDARD
TZOFFSETFROM:+0530
TZOFFSETTO:+0530
TZNAME:IST
DTSTART:20210101T000000
END:STANDARD
END:VTIMEZONE
BEGIN:VEVENT
DTSTART;TZID=Asia/Kolkata:20220308T200000
DTEND;TZID=Asia/Kolkata:20220308T210000
DTSTAMP:20260420T035712
CREATED:20220227T104031Z
LAST-MODIFIED:20220227T104031Z
UID:471-1646769600-1646773200@cegconnect.com
SUMMARY:CEG C-Level Connect Series #9 – Ms. Mini Suri\, CEG 1990 CSE\, CEO of Velmeni
DESCRIPTION:Program Details\n \nGuest Speaker – Ms. Mini Suri\, CEG 1990 CSE\, CEO of Velmeni\, an AI Health care startup in California.\nMini Suri\, a brilliant contributor to the tech industry\, is an innovative trailblazer in\nAI/ML/NLP Automation and an advocate for the betterment of others. Mini’s\ndeep experience and creative inspiration have led VELMENI to the forefront of AI\nhealthcare through predictive and analytical artificial intelligence in dentistry. \nVELMENI’s platform is evolving as the standard-bearer for dental practices.\nMini has acted as Chief Customer Officer at KORE.ai\, head of IA for Uber\, and\nSenior Vice President at Citi. With an MBA from MIT’s Sloan School\, she provides\nVELMENI with deep-tech strategy\, financial skills\, and hands-on operational\nmanagement. A doer and problem-solver\, Mini leads product development\, raises\ncapital\, fosters a high-performance culture\, and is building the most talented\nteam in the industry. \nAs a Board Member at TiE Silicon Valley and throughout her career\, Mini has\nbrought big-picture thinking to foster technology entrepreneurship\, youth\nengagement\, and women’s leadership initiatives—including The Hunger Project to\neradicate world hunger and establish women as a force for change-making. This\nincludes establishing first robotics and STEM education for girls \nLinkedin Profile\n \nHost – Mr. Vish Viswanathan\, CEG 1985 Mech\, CEO\, Anikode Management Consultants\nLinkedin Profile\n \nTechnical Support – Mr. Partha Sarathy\, CEG IT\, 2021\nLinkedin Profile
URL:https://cegconnect.com/event/ceg-c-level-connect-series-9-ms-mini-suri-ceg-1990-cse-ceo-of-velmeni/
LOCATION:Google Meet
END:VEVENT
END:VCALENDAR