BEGIN:VCALENDAR
VERSION:2.0
PRODID:-//CEG Connect - ECPv6.15.20//NONSGML v1.0//EN
CALSCALE:GREGORIAN
METHOD:PUBLISH
X-WR-CALNAME:CEG Connect
X-ORIGINAL-URL:https://cegconnect.com
X-WR-CALDESC:Events for CEG Connect
REFRESH-INTERVAL;VALUE=DURATION:PT1H
X-Robots-Tag:noindex
X-PUBLISHED-TTL:PT1H
BEGIN:VTIMEZONE
TZID:Asia/Kolkata
BEGIN:STANDARD
TZOFFSETFROM:+0530
TZOFFSETTO:+0530
TZNAME:IST
DTSTART:20210101T000000
END:STANDARD
END:VTIMEZONE
BEGIN:VEVENT
DTSTART;TZID=Asia/Kolkata:20220717T200000
DTEND;TZID=Asia/Kolkata:20220717T210000
DTSTAMP:20260419T214105
CREATED:20220710T160138Z
LAST-MODIFIED:20220710T160138Z
UID:575-1658088000-1658091600@cegconnect.com
SUMMARY:CEG C-Level Connect Series #13 –  Dr. Mouli Vaidyanathan\, CEO Solarpod
DESCRIPTION:Program Details\n \nGuest Speaker – Dr. Mouli Vaidyanathan\, CEG 1985\, Production Engineering\, CEO of Solarpod\nDr. Mouli Vaidyanathan is a technology and engineering leader with 30 years of experience in engineering\, materials science\, mechanical engineering\, data analytics\, semiconductor\, and renewable energy. Have led and worked with small to large diverse teams and was responsible for over $1B in revenue. He is currently serving as the president and CEO of SolarPod. He grew the company from a start-up to a sustainable business. \nLinkedin Profile\n \nHost – Mr. Vish Viswanathan\, CEG 1985 Mech\, CEO\, Anikode Management Consultants\nLinkedin Profile\n \nTechnical Support – Mr. Partha Sarathy\, CEG IT\, 2021\nLinkedin Profile
URL:https://cegconnect.com/event/ceg-c-level-connect-series-13-dr-mouli-vaidyanathan-ceo-solarpod/
END:VEVENT
END:VCALENDAR