BEGIN:VCALENDAR
VERSION:2.0
PRODID:-//CEG Connect - ECPv6.15.20//NONSGML v1.0//EN
CALSCALE:GREGORIAN
METHOD:PUBLISH
X-ORIGINAL-URL:https://cegconnect.com
X-WR-CALDESC:Events for CEG Connect
REFRESH-INTERVAL;VALUE=DURATION:PT1H
X-Robots-Tag:noindex
X-PUBLISHED-TTL:PT1H
BEGIN:VTIMEZONE
TZID:Asia/Kolkata
BEGIN:STANDARD
TZOFFSETFROM:+0530
TZOFFSETTO:+0530
TZNAME:IST
DTSTART:20210101T000000
END:STANDARD
END:VTIMEZONE
BEGIN:VEVENT
DTSTART;TZID=Asia/Kolkata:20220814T200000
DTEND;TZID=Asia/Kolkata:20220814T210000
DTSTAMP:20260419T201724
CREATED:20220807T083539Z
LAST-MODIFIED:20220807T083539Z
UID:580-1660507200-1660510800@cegconnect.com
SUMMARY:CEG C-Level Connect Series #14 –  Ms. Shobana Radhakrishnan\, Sr. Director of Engineering\, Google TV
DESCRIPTION:Program Details\n \nGuest Speaker – Ms. Shobana Radhakrishnan\, CEG 1996 EEE\,  Sr. Director of Engineering\, Google TV\nShobana Radhakrishnan is a Senior Director of Engineering leading next-generation media personalization at Google. Prior to this\, she has held various leadership roles at\nRoku\, Mindflash\, Symantec\, Netflix\, and Yahoo working across a wide range of consumer products\, including Geocities\, Data Protection & Security\, and Streaming\nMedia. \nShe has been invited to speak at various international conferences\, including Amazon AWS Reinvent\, QCon\, Grace Hopper\, and Streaming Media Connect.\nShe has been honored with the Distinguished Alumni Award from CEG in 2020\, Silicon Valley Business Journal Women of Influence Award in 2022\, and a Silicon Valley Best CIO Award finalist in 2015. \nShobana graduated at the top of her class from CEG\, receiving a Bachelor’s degree in EEE in 1996\, and has a master’s in Computer Science from the University. \nLinkedin Profile\n \nHost – Mr. Vish Viswanathan\, CEG 1985 Mech\, CEO\, Anikode Management Consultants\nLinkedin Profile\n \nTechnical Support – Mr. Partha Sarathy\, CEG IT\, 2021\nLinkedin Profile
URL:https://cegconnect.com/event/ceg-c-level-connect-series-14-ms-shobana-radhakrishnan-sr-director-of-engineering-google-tv/
LOCATION:Google Meet
CATEGORIES:CEG Connect
END:VEVENT
END:VCALENDAR