BEGIN:VCALENDAR
VERSION:2.0
PRODID:-//CEG Connect - ECPv6.15.20//NONSGML v1.0//EN
CALSCALE:GREGORIAN
METHOD:PUBLISH
X-ORIGINAL-URL:https://cegconnect.com
X-WR-CALDESC:Events for CEG Connect
REFRESH-INTERVAL;VALUE=DURATION:PT1H
X-Robots-Tag:noindex
X-PUBLISHED-TTL:PT1H
BEGIN:VTIMEZONE
TZID:Asia/Kolkata
BEGIN:STANDARD
TZOFFSETFROM:+0530
TZOFFSETTO:+0530
TZNAME:IST
DTSTART:20200101T000000
END:STANDARD
END:VTIMEZONE
BEGIN:VEVENT
DTSTART;TZID=Asia/Kolkata:20211010T200000
DTEND;TZID=Asia/Kolkata:20211010T210000
DTSTAMP:20260420T095306
CREATED:20210925T171758Z
LAST-MODIFIED:20211004T150929Z
UID:298-1633896000-1633899600@cegconnect.com
SUMMARY:CEG C-Level Connect #4 - Ms. Anuradha Shultes\, CEO\, LendUp Global
DESCRIPTION:Program Details\n  \n \n  \n  \n  \n  \n  \n  \n  \nGuest Speaker – Ms. Anuradha Shultes\, CEG CSE 1990\, CEO\, LendUp Global\nhttps://www.linkedin.com/in/anushultes/\n \nHost – Mr. Vish Viswanathan\, CEG 1985 Mech\, CEO\, Anikode Management Consultants\nhttps://www.linkedin.com/in/vishaviswanathan/\n  \n \nTechnical Support – Mr. Partha Sarathy\, CEG CSE\, 2022\, Founder at SarathyWeb | Alibaba Cloud Most Valuable Professional\nhttps://www.linkedin.com/in/sarathywebindia/\n 
URL:https://cegconnect.com/event/ceg-c-level-connect-4-ms-anuradha-schultes-ceo-lendup-global/
LOCATION:Google Meet
ORGANIZER;CN="Vish Viswanathan":MAILTO:v.a.viswanathan@gmail.com
END:VEVENT
END:VCALENDAR