BEGIN:VCALENDAR
VERSION:2.0
PRODID:-//CEG Connect - ECPv6.15.20//NONSGML v1.0//EN
CALSCALE:GREGORIAN
METHOD:PUBLISH
X-WR-CALNAME:CEG Connect
X-ORIGINAL-URL:https://cegconnect.com
X-WR-CALDESC:Events for CEG Connect
REFRESH-INTERVAL;VALUE=DURATION:PT1H
X-Robots-Tag:noindex
X-PUBLISHED-TTL:PT1H
BEGIN:VTIMEZONE
TZID:Asia/Kolkata
BEGIN:STANDARD
TZOFFSETFROM:+0530
TZOFFSETTO:+0530
TZNAME:IST
DTSTART:20210101T000000
END:STANDARD
END:VTIMEZONE
BEGIN:VEVENT
DTSTART;TZID=Asia/Kolkata:20220508T200000
DTEND;TZID=Asia/Kolkata:20220508T210000
DTSTAMP:20260419T230728
CREATED:20220426T171420Z
LAST-MODIFIED:20220427T182346Z
UID:540-1652040000-1652043600@cegconnect.com
SUMMARY:CEG C-Level Connect Series #11 – Ms. Mythily Ramesh\, CEO of NextWealth
DESCRIPTION:Program Details\n \nGuest Speaker – Ms. Mythily Ramesh\, CEG 1986 CSE\, CEO of NextWealth\,  Recipient of the AACEG Distinguished Alumni Award on 225th year\nMythily has more than 30 years of professional experience. She completed her BE in Computer Science from College of Engineering\, Guindy\, and MBA from IIM Ahmedabad. In her 20-year successful stint in Wipro\, she grew from a Customer support executive to a Senior Vice President. Her career spans product management\, marketing\, business head\, and quality. \nAs a certified Black Belt\, she drove the Six Sigma initiative in Wipro\, and in her last stint\, she was the Senior VP for Wipro BPO and was responsible for pre-sales and solutioning\, product management\, and transition\, platform BPO\, BPO Consulting\, and procurement BPO operations. \nWith a passion for entrepreneurship\, she was the CEO of a start-up in Wipro called 01markets and built a successful business around e-procurement and was a pioneer in Reverse Auction in India. \nIn 2006 and 2007 she was adjudged one of the 25 most powerful women in India by India Today and Dataquest. She has been profiled many times in Business Today and Business World as a successful woman IT professional. \nIn 2010\, she started a social entrepreneurship firm NextWealth with three other ex-Wipro colleagues\, focusing on creating high-end IT jobs for graduates in small towns\, thereby creating a positive social impact. Their mission is to create 10000 jobs in small towns. Currently\, NextWealth has six delivery centers from small towns\, creating 4000 direct jobs and impacting more than 40000 families. \nShe currently serves on the board of Karnataka Bank\, Indian Institute of Management\, Udaipur\, and WEP Digital as an Independent Director. She is also a Steering committee member of IIMPACT\, an NGO started by IIMA Alumni focusing on educating underprivileged girls children in India. She is also a member of the NASSCOM BPM Council and is heading a task force on “Expansion into Small Towns” to move the industry to operate more and more from small towns and thereby not only ensure talent expansion but also revenue growth. \nLinkedin Profile\n \nHost – Mr. Vish Viswanathan\, CEG 1985 Mech\, CEO\, Anikode Management Consultants\nLinkedin Profile\n \nTechnical Support – Mr. Partha Sarathy\, CEG IT\, 2021\nLinkedin Profile
URL:https://cegconnect.com/event/ceg-c-level-connect-series-11-ms-mythili-ramesh-ceo-of-nextwealth/
LOCATION:Google Meet
END:VEVENT
BEGIN:VEVENT
DTSTART;TZID=Asia/Kolkata:20220514T080000
DTEND;TZID=Asia/Kolkata:20220514T090000
DTSTAMP:20260419T230728
CREATED:20220425T140055Z
LAST-MODIFIED:20220509T183103Z
UID:530-1652515200-1652518800@cegconnect.com
SUMMARY:CEGfi4: On EVs and Batteries (May 14th)
DESCRIPTION:Battery technology is key for the transformation to Electric Vehicles. \nManu Iyer is an invited speaker. Manu is the founder of Blue Hill Capital. He angel invests in startups. Plus he is the board member for PiBeam Electric\, a pioneer in vertically integrated EVs. \nCEG Field Insights (CEGfi) is our effort to bring the insights from experienced people and share with CEG members \non: May 14th\, 08:00 AM PST / 8:30PM IST \nZoom at: https://bit.ly/cegfi4 
URL:https://cegconnect.com/event/cegfi4/
CATEGORIES:CEG Field Insights
ATTACH;FMTTYPE=image/png:https://cegconnect.com/wp-content/uploads/2022/04/Screen-Shot-2022-04-25-at-6.54.14-AM.png
END:VEVENT
BEGIN:VEVENT
DTSTART;TZID=Asia/Kolkata:20220521T080000
DTEND;TZID=Asia/Kolkata:20220521T090000
DTSTAMP:20260419T230728
CREATED:20220425T141534Z
LAST-MODIFIED:20220426T172333Z
UID:533-1653120000-1653123600@cegconnect.com
SUMMARY:CEGfi5: Engineering for a Sustainable Environment
DESCRIPTION:A Convenient Possibility: Engineering for a Sustainable Environment \nIncreasingly the world needs engineers to help create a sustainable environment. This requires efforts from engineers\, business\, and governments. G. Venugopal (CEG1984) has been working with many people on related initiatives. He will be our speaker on May 21st. \nCEG Field Insights (CEGfi) is our effort to bring the insights from experienced people and share with CEG members \non: May 21st\, 08:00 AM PST / 8:30PM IST \nZoom at: https://bit.ly/cegfi-5
URL:https://cegconnect.com/event/cegfi5/
CATEGORIES:CEG Field Insights
ATTACH;FMTTYPE=image/png:https://cegconnect.com/wp-content/uploads/2022/04/Screen-Shot-2022-04-25-at-7.10.43-AM.png
END:VEVENT
END:VCALENDAR