BEGIN:VCALENDAR
VERSION:2.0
PRODID:-//CEG Connect - ECPv6.15.20//NONSGML v1.0//EN
CALSCALE:GREGORIAN
METHOD:PUBLISH
X-ORIGINAL-URL:https://cegconnect.com
X-WR-CALDESC:Events for CEG Connect
REFRESH-INTERVAL;VALUE=DURATION:PT1H
X-Robots-Tag:noindex
X-PUBLISHED-TTL:PT1H
BEGIN:VTIMEZONE
TZID:Asia/Kolkata
BEGIN:STANDARD
TZOFFSETFROM:+0530
TZOFFSETTO:+0530
TZNAME:IST
DTSTART:20210101T000000
END:STANDARD
END:VTIMEZONE
BEGIN:VEVENT
DTSTART;TZID=Asia/Kolkata:20220605T200000
DTEND;TZID=Asia/Kolkata:20220605T210000
DTSTAMP:20260419T214224
CREATED:20220515T152027Z
LAST-MODIFIED:20220710T160442Z
UID:555-1654459200-1654462800@cegconnect.com
SUMMARY:CEG C-Level Connect Series #12 – Ms. Praveena Rai\, COO\, National Payments Corporation of India (NPCI)
DESCRIPTION:Program Details\n \nGuest Speaker – Ms. Praveena Rai\, CEG 1990 ECE\, COO\, National Payments Corporation of India (NPCI)\nMs. Praveena Rai is Chief Operating Officer of NPCI (National Payments Corporation of India). An ex-banker\, she is now responsible for running the business\, including products\, operational and technical delivery. Passionate about payments and technology as drivers of economic value\, she helps NPCI attain its strategic objectives of offering a simple\, secure\, and seamless digital payment experience to consumers and users across the ecosystem – that can lead to the rapid digitalization of India. \nLinkedin Profile\n \nHost – Mr. Vish Viswanathan\, CEG 1985 Mech\, CEO\, Anikode Management Consultants\nLinkedin Profile\n \nTechnical Support – Mr. Partha Sarathy\, CEG IT\, 2021\nLinkedin Profile
URL:https://cegconnect.com/event/ceg-c-level-connect-series-12-ms-praveena-rai-coo-national-payments-corporation-of-india-npci/
CATEGORIES:CEG Connect
END:VEVENT
END:VCALENDAR