BEGIN:VCALENDAR
VERSION:2.0
PRODID:-//CEG Connect - ECPv6.15.20//NONSGML v1.0//EN
CALSCALE:GREGORIAN
METHOD:PUBLISH
X-ORIGINAL-URL:https://cegconnect.com
X-WR-CALDESC:Events for CEG Connect
REFRESH-INTERVAL;VALUE=DURATION:PT1H
X-Robots-Tag:noindex
X-PUBLISHED-TTL:PT1H
BEGIN:VTIMEZONE
TZID:Asia/Kolkata
BEGIN:STANDARD
TZOFFSETFROM:+0530
TZOFFSETTO:+0530
TZNAME:IST
DTSTART:20210101T000000
END:STANDARD
END:VTIMEZONE
BEGIN:VEVENT
DTSTART;TZID=Asia/Kolkata:20220925T200000
DTEND;TZID=Asia/Kolkata:20220925T210000
DTSTAMP:20260419T173714
CREATED:20220911T180019Z
LAST-MODIFIED:20220911T180019Z
UID:585-1664136000-1664139600@cegconnect.com
SUMMARY:CEG C-Level Connect Series #15 –  Girish Ramdas\, Co-founder and CEO\, Magzter
DESCRIPTION:Program Details\n \nGuest Speaker – Girish Ramdas\, CEG 1996\, Mech\, Co-founder and CEO\, Magzter\nGirish Ramdas is the Co-founder and CEO of Magzter\, a New York-based startup that has been making waves in the global digital publishing business. In 9 years Magzter has crossed 70 million users from more than 150+ countries with 1\,000s of magazines\, newspapers\, and books from more than 4\,500 publishers worldwide. \nHe has more than 24 years of experience in cross-platform publishing\, including print\, mobile\, and Web development. During this period\, he has co-founded and run three successful start-up businesses. He has enabled magazine companies to go digital and helps them monetize their content across the digital world. Girish’s deep industry experience in online\, mobile\, and publishing ecosystems has made him an expert in acquisition\, marketing and monetizing digital content across platforms globally. \nLinkedin Profile\n \nHost – Mr. Vish Viswanathan\, CEG 1985 Mech\, CEO\, Anikode Management Consultants\nLinkedin Profile\n \nTechnical Support – Mr. Partha Sarathy\, CEG IT\, 2021\nLinkedin Profile
URL:https://cegconnect.com/event/ceg-c-level-connect-series-15-girish-ramdas-co-founder-and-ceo-magzter/
LOCATION:Google Meet
CATEGORIES:CEG Connect
END:VEVENT
END:VCALENDAR